BEGIN:VCALENDAR
VERSION:2.0
PRODID:-//EssBO! Ernährungsrat Bochum - ECPv6.15.15//NONSGML v1.0//EN
CALSCALE:GREGORIAN
METHOD:PUBLISH
X-WR-CALNAME:EssBO! Ernährungsrat Bochum
X-ORIGINAL-URL:https://ernaehrungsrat-bochum.de
X-WR-CALDESC:Veranstaltungen für EssBO! Ernährungsrat Bochum
REFRESH-INTERVAL;VALUE=DURATION:PT1H
X-Robots-Tag:noindex
X-PUBLISHED-TTL:PT1H
BEGIN:VTIMEZONE
TZID:Europe/Berlin
BEGIN:DAYLIGHT
TZOFFSETFROM:+0100
TZOFFSETTO:+0200
TZNAME:CEST
DTSTART:20250330T010000
END:DAYLIGHT
BEGIN:STANDARD
TZOFFSETFROM:+0200
TZOFFSETTO:+0100
TZNAME:CET
DTSTART:20251026T010000
END:STANDARD
BEGIN:DAYLIGHT
TZOFFSETFROM:+0100
TZOFFSETTO:+0200
TZNAME:CEST
DTSTART:20260329T010000
END:DAYLIGHT
BEGIN:STANDARD
TZOFFSETFROM:+0200
TZOFFSETTO:+0100
TZNAME:CET
DTSTART:20261025T010000
END:STANDARD
BEGIN:DAYLIGHT
TZOFFSETFROM:+0100
TZOFFSETTO:+0200
TZNAME:CEST
DTSTART:20270328T010000
END:DAYLIGHT
BEGIN:STANDARD
TZOFFSETFROM:+0200
TZOFFSETTO:+0100
TZNAME:CET
DTSTART:20271031T010000
END:STANDARD
END:VTIMEZONE
BEGIN:VEVENT
DTSTART;TZID=Europe/Berlin:20260421T170000
DTEND;TZID=Europe/Berlin:20260421T190000
DTSTAMP:20260421T111005
CREATED:20260315T104525Z
LAST-MODIFIED:20260315T104936Z
UID:2882-1776790800-1776798000@ernaehrungsrat-bochum.de
SUMMARY:Bildung wird Essbar
DESCRIPTION:Der Workshop „Bildung wird essbar“ von ‚EssBO! Ernährungsrat Bochum‘ und dem ‚Ernährungsrat Essen‘ geht in die 9. Runde\, wieder mit handfesten Beispielen aus der Bildungspraxis!  \n\n\n\nDiesmal treffen wir uns zum kreativen Austausch  \n\n\n\nam Dienstag\, dem 21. April 2026 in der   \n\n\n\nDon-Bosco-Schule  \n\n\n\nFriederikastraße 21  \n\n\n\n44789 Bochum  \n\n\n\nWie gewohnt leiten Natur- und Umweltexpert:innen sowie erfahrene Pädagog:innen Sie/Euch an zu den Themen: \n\n\n\n\nMalen mit Pflanzen auf Farinata\n\n\n\nEs sprießt und wird gerollt\n\n\n\nFrischkäse macht sich fein und bunt\n\n\n\nVorbereitet auf den Frühling\n\n\n\nUpcycling von Samentütchen und Pflanztöpfchen\n\n\n\nMaispitzen und wildes grün im Schokomantel\n\n\n\nwie immer – wild aromatisiertes Wasser\n\n\n\n\nund geben praktische sinnliche Impulse rund um den Frühling und den Genuss aus Garten und von der Fensterbank. \n\n\n\nWir laden Sie/Euch als Expert:in und Interessierte ein\, Ihre/Eure Erfahrungen und Ihr/Euer Wissen in den Kontakt mit einzubringen. Wir sind gespannt auf den erneuten grünen Austausch\, der auch uns immer wieder bereichert\, und freuen uns besonders auf das gemeinsame Tun mit Ihnen/Euch. \n\n\n\nDieser Workshop richtet sich an Gestalter:innen aus allen Bildungsbereichen – ob mit viel Erfahrung oder noch auf der Suche nach ersten Ideen. \n\n\n\nDer Workshop ist unentgeltlich\, aber bestimmt nicht umsonst. Es können Materialkosten anfallen! Über Spenden freuen wir uns immer riesig! \n\n\n\nAnmeldung bis zum 15.04.2026 unter \n\n\n\nessbo@ernaehrungsrat-bochum.de\, Betreff: BWE
URL:https://ernaehrungsrat-bochum.de/event/bildung-wird-essbar/
ATTACH;FMTTYPE=image/jpeg:https://ernaehrungsrat-bochum.de/wp-content/uploads/bildung-wird-essbar-12.jpg
END:VEVENT
BEGIN:VEVENT
DTSTART;TZID=Europe/Berlin:20260425T110000
DTEND;TZID=Europe/Berlin:20260425T183000
DTSTAMP:20260421T111005
CREATED:20260311T165101Z
LAST-MODIFIED:20260311T165101Z
UID:2842-1777114800-1777141800@ernaehrungsrat-bochum.de
SUMMARY:Gartentag im Gemeinschaftsgarten Hof Bergmann
DESCRIPTION:Wir vom Gemeinschaftsgarten Hof Bergmann laden herzlich dazu ein\, ökologische Gartenpraxis gemeinsam zu erleben – jeden Samstag von 11:00 bis 18:30 Uhr. \n\n\n\nOb erfahrene Gärtner*innen oder neugierige Einsteiger*innen – hier werden Gemüse und Obst angebaut\, gepflegt und geerntet.Dabei entdecken wir die Vielfalt von Pflanzen und Insekten\, fördern aktiv die Biodiversität und erleben\, wie ein ökologisches Miteinander von Flora und Fauna funktioniert. Gemeinschaftliches Tun\, Austausch und Mahlzeiten aus der Ernte machen den Gartentag zu einem lebendigen Erlebnis für alle Teilnehmenden. \n\n\n\nAnmeldung nicht nötig.Die Teilnahme ist kostenfrei – einfach kommen und mitmachen! \n\n\n\nAnfahrt und Parken:Eine Anfahrt ist sowohl mit dem Fahrrad\, den öffentlichen Verkehrsmitteln (Bushaltestelle: Schattbachbrücke oder Berger Höfe) oder dem Auto möglich. Auf dem Hof sind keine Parkplätze vorhanden\, alternative Parkmöglichkeit besteht rund um die Gaststätte ums Eck („Blauer Engel“) oder am Friedhof an der Schattbachstraße. \n\n\n\nBei Fragen bitte melden:bei Johannes Tangen Mobil: 01577 4598148oder per Mail an Magdalena Kruska: hallo@derhof.eu
URL:https://ernaehrungsrat-bochum.de/event/gartentag-im-gemeinschaftsgarten-hof-bergmann-4/
END:VEVENT
END:VCALENDAR