BEGIN:VCALENDAR
VERSION:2.0
PRODID:-//EssBO! Ernährungsrat Bochum - ECPv6.15.15//NONSGML v1.0//EN
CALSCALE:GREGORIAN
METHOD:PUBLISH
X-ORIGINAL-URL:https://ernaehrungsrat-bochum.de
X-WR-CALDESC:Veranstaltungen für EssBO! Ernährungsrat Bochum
REFRESH-INTERVAL;VALUE=DURATION:PT1H
X-Robots-Tag:noindex
X-PUBLISHED-TTL:PT1H
BEGIN:VTIMEZONE
TZID:Europe/Berlin
BEGIN:DAYLIGHT
TZOFFSETFROM:+0100
TZOFFSETTO:+0200
TZNAME:CEST
DTSTART:20250330T010000
END:DAYLIGHT
BEGIN:STANDARD
TZOFFSETFROM:+0200
TZOFFSETTO:+0100
TZNAME:CET
DTSTART:20251026T010000
END:STANDARD
BEGIN:DAYLIGHT
TZOFFSETFROM:+0100
TZOFFSETTO:+0200
TZNAME:CEST
DTSTART:20260329T010000
END:DAYLIGHT
BEGIN:STANDARD
TZOFFSETFROM:+0200
TZOFFSETTO:+0100
TZNAME:CET
DTSTART:20261025T010000
END:STANDARD
BEGIN:DAYLIGHT
TZOFFSETFROM:+0100
TZOFFSETTO:+0200
TZNAME:CEST
DTSTART:20270328T010000
END:DAYLIGHT
BEGIN:STANDARD
TZOFFSETFROM:+0200
TZOFFSETTO:+0100
TZNAME:CET
DTSTART:20271031T010000
END:STANDARD
END:VTIMEZONE
BEGIN:VEVENT
DTSTART;TZID=Europe/Berlin:20260502T110000
DTEND;TZID=Europe/Berlin:20260503T170000
DTSTAMP:20260420T055319
CREATED:20260311T163143Z
LAST-MODIFIED:20260311T163143Z
UID:2830-1777719600-1777827600@ernaehrungsrat-bochum.de
SUMMARY:Superhoftage auf Hof Bergmann
DESCRIPTION:Weitere Infos auf der Homepage des Hof Bergmann (www.derhof.eu) oder demnächst hier. \n\n\n\nAnmeldung nicht nötig.Die Teilnahme ist kostenfrei – einfach kommen und mitmachen! \n\n\n\nAnfahrt und Parken:Eine Anfahrt ist sowohl mit dem Fahrrad\, den öffentlichen Verkehrsmitteln (Bushaltestelle: Schattbachbrücke oder Berger Höfe) oder dem Auto möglich. Auf dem Hof sind keine Parkplätze vorhanden\, alternative Parkmöglichkeit besteht rund um die Gaststätte ums Eck („Blauer Engel“) oder am Friedhof an der Schattbachstraße. \n\n\n\nBei Fragen bitte melden:bei Johannes Tangen Mobil: 01577 4598148oder per Mail an Magdalena Kruska: hallo@derhof.eu
URL:https://ernaehrungsrat-bochum.de/event/superhoftage-auf-hof-bergmann/
END:VEVENT
BEGIN:VEVENT
DTSTART;TZID=Europe/Berlin:20260504T193000
DTEND;TZID=Europe/Berlin:20260504T213000
DTSTAMP:20260420T055319
CREATED:20260311T185021Z
LAST-MODIFIED:20260311T185022Z
UID:2880-1777923000-1777930200@ernaehrungsrat-bochum.de
SUMMARY:Monatstreffen EssBo! Ernährungsrat Bochum e.V.
DESCRIPTION:Monatstreffen \n\n\n\nOrt wird noch bekannt gegeben
URL:https://ernaehrungsrat-bochum.de/event/monatstreffen-essbo-ernaehrungsrat-bochum-e-v/
END:VEVENT
BEGIN:VEVENT
DTSTART;TZID=Europe/Berlin:20260509T110000
DTEND;TZID=Europe/Berlin:20260509T183000
DTSTAMP:20260420T055319
CREATED:20260311T165343Z
LAST-MODIFIED:20260311T165343Z
UID:2844-1778324400-1778351400@ernaehrungsrat-bochum.de
SUMMARY:Wöchentlicher Gartentag im Gemeinschaftsgarten Hof Bergmann
DESCRIPTION:Wir vom Gemeinschaftsgarten Hof Bergmann laden herzlich dazu ein\, ökologische Gartenpraxis gemeinsam zu erleben – jeden Samstag von 11:00 bis 18:30 Uhr. \n\n\n\nOb erfahrene Gärtner*innen oder neugierige Einsteiger*innen – hier werden Gemüse und Obst angebaut\, gepflegt und geerntet.Dabei entdecken wir die Vielfalt von Pflanzen und Insekten\, fördern aktiv die Biodiversität und erleben\, wie ein ökologisches Miteinander von Flora und Fauna funktioniert. Gemeinschaftliches Tun\, Austausch und Mahlzeiten aus der Ernte machen den Gartentag zu einem lebendigen Erlebnis für alle Teilnehmenden. \n\n\n\nAnmeldung nicht nötig.Die Teilnahme ist kostenfrei – einfach kommen und mitmachen! \n\n\n\nAnfahrt und Parken:Eine Anfahrt ist sowohl mit dem Fahrrad\, den öffentlichen Verkehrsmitteln (Bushaltestelle: Schattbachbrücke oder Berger Höfe) oder dem Auto möglich. Auf dem Hof sind keine Parkplätze vorhanden\, alternative Parkmöglichkeit besteht rund um die Gaststätte ums Eck („Blauer Engel“) oder am Friedhof an der Schattbachstraße. \n\n\n\nBei Fragen bitte melden:bei Johannes Tangen Mobil: 01577 4598148oder per Mail an Magdalena Kruska: hallo@derhof.eu
URL:https://ernaehrungsrat-bochum.de/event/woechentlicher-gartentag-im-gemeinschaftsgarten-hof-bergmann-3/
END:VEVENT
BEGIN:VEVENT
DTSTART;TZID=Europe/Berlin:20260515T140000
DTEND;TZID=Europe/Berlin:20260517T220000
DTSTAMP:20260420T055319
CREATED:20260311T180845Z
LAST-MODIFIED:20260412T095009Z
UID:2870-1778853600-1779055200@ernaehrungsrat-bochum.de
SUMMARY:Paradiestage am Maarbach
DESCRIPTION:Die Paradiestage am Maarbach finden im Rahmen der Nachhaltigkeitswochen Hamme vom  \n\n\n\n15. – 17. Mai 2026 täglich ab 14:00 Uhr im Naturparadies am Maarbach statt!An unseren Mitmachtagen rund um Garten\, Nachhaltigkeit und Natur bieten die verschiedenen Workshops und Angebote die Möglichkeit dazu zulernen\, sich selber auszuprobieren und neue Dinge kennenzulernen. \n\n\n\nDie Paradiestage am Maarbach leben besonders vom Mitmachen\, so dass jeder eingeladen ist sich irgendwie einzubringen. Also bietet eure Hilfe an\, packt an und haltet die Augen offen. \n\n\n\nSo wird es am 9. Mai ab 12 Uhr und am 14. Mai ab 12 Uhr Vorbereitungs- und Aufbautage geben\, an denen sich alle beteiligen können! \n\n\n\nFür das Spenden-Buffet freuen wir uns sehr über eure kulinarischen Spezialitäten.Außerdem wird es verschiedene offene Angebote im Naturparadies geben:Pflanzentauschbörse\, Samenkugeln rollen\, Kreativangebote\, Gartenspiele\, ….Musizieren erwünscht.Ab 22:00 Uhr müssen wir leise sein! \n\n\n\nFür die Menschen\, die sich gerne mit natürlichen Farben auseinandersetzen wollen\, bietet Doris Brück eine Workshop Reihe mit dem Titel „Rinden Farben Strukturen“ an. Diese ist gefördert durch den Westend Fonds. Weitere Informationen sind dem Flyer zu entnehmen.Herzliche Grüße aus dem Naturparadies am Maarbach
URL:https://ernaehrungsrat-bochum.de/event/paradiestage-am-maarbach-2/
END:VEVENT
BEGIN:VEVENT
DTSTART;TZID=Europe/Berlin:20260516T110000
DTEND;TZID=Europe/Berlin:20260516T183000
DTSTAMP:20260420T055319
CREATED:20260311T165529Z
LAST-MODIFIED:20260311T165529Z
UID:2846-1778929200-1778956200@ernaehrungsrat-bochum.de
SUMMARY:Gartentag im Gemeinschaftsgarten Hof Bergmann
DESCRIPTION:Wir vom Gemeinschaftsgarten Hof Bergmann laden herzlich dazu ein\, ökologische Gartenpraxis gemeinsam zu erleben – jeden Samstag von 11:00 bis 18:30 Uhr. \n\n\n\nOb erfahrene Gärtner*innen oder neugierige Einsteiger*innen – hier werden Gemüse und Obst angebaut\, gepflegt und geerntet.Dabei entdecken wir die Vielfalt von Pflanzen und Insekten\, fördern aktiv die Biodiversität und erleben\, wie ein ökologisches Miteinander von Flora und Fauna funktioniert. Gemeinschaftliches Tun\, Austausch und Mahlzeiten aus der Ernte machen den Gartentag zu einem lebendigen Erlebnis für alle Teilnehmenden. \n\n\n\nAnmeldung nicht nötig.Die Teilnahme ist kostenfrei – einfach kommen und mitmachen! \n\n\n\nAnfahrt und Parken:Eine Anfahrt ist sowohl mit dem Fahrrad\, den öffentlichen Verkehrsmitteln (Bushaltestelle: Schattbachbrücke oder Berger Höfe) oder dem Auto möglich. Auf dem Hof sind keine Parkplätze vorhanden\, alternative Parkmöglichkeit besteht rund um die Gaststätte ums Eck („Blauer Engel“) oder am Friedhof an der Schattbachstraße. \n\n\n\nBei Fragen bitte melden:bei Johannes Tangen Mobil: 01577 4598148oder per Mail an Magdalena Kruska: hallo@derhof.eu
URL:https://ernaehrungsrat-bochum.de/event/gartentag-im-gemeinschaftsgarten-hof-bergmann-5/
END:VEVENT
BEGIN:VEVENT
DTSTART;TZID=Europe/Berlin:20260516T150000
DTEND;TZID=Europe/Berlin:20260516T170000
DTSTAMP:20260420T055319
CREATED:20260311T175521Z
LAST-MODIFIED:20260311T175652Z
UID:2867-1778943600-1778950800@ernaehrungsrat-bochum.de
SUMMARY:Führung durch den Stadtpark mit Christoph Wieschus
DESCRIPTION:Was wächst denn da? Führung durch den Stadtpark mit Christoph Wieschus Samstag\, 16.05.2026\, 15.00 – 17.00 Uhr im Stadtpark Bochum \n\n\n\nWir treffen uns im Stadtpark am Bismarckturm. Auf unserer Führung stellen wir besondere Gehölze wie den Taschentuchbaum oder die Flügelnuss vor. Zudem sind für die Internationale Gartenausstellung (IGA 2027) neue Projekte im Park vorgesehen. \n\n\n\nWir freuen uns über Spenden. \n\n\n\nAnmeldung erforderlich! Bitte anmelden unter: wieschus@gmail.com
URL:https://ernaehrungsrat-bochum.de/event/fuehrung-durch-den-stadtpark-mit-christoph-wieschus/
END:VEVENT
BEGIN:VEVENT
DTSTART;TZID=Europe/Berlin:20260523T110000
DTEND;TZID=Europe/Berlin:20260523T183000
DTSTAMP:20260420T055319
CREATED:20260311T165713Z
LAST-MODIFIED:20260311T165714Z
UID:2848-1779534000-1779561000@ernaehrungsrat-bochum.de
SUMMARY:Gartentag im Gemeinschaftsgarten Hof Bergmann
DESCRIPTION:Wir vom Gemeinschaftsgarten Hof Bergmann laden herzlich dazu ein\, ökologische Gartenpraxis gemeinsam zu erleben – jeden Samstag von 11:00 bis 18:30 Uhr. \n\n\n\nOb erfahrene Gärtner*innen oder neugierige Einsteiger*innen – hier werden Gemüse und Obst angebaut\, gepflegt und geerntet.Dabei entdecken wir die Vielfalt von Pflanzen und Insekten\, fördern aktiv die Biodiversität und erleben\, wie ein ökologisches Miteinander von Flora und Fauna funktioniert. Gemeinschaftliches Tun\, Austausch und Mahlzeiten aus der Ernte machen den Gartentag zu einem lebendigen Erlebnis für alle Teilnehmenden. \n\n\n\nAnmeldung nicht nötig.Die Teilnahme ist kostenfrei – einfach kommen und mitmachen! \n\n\n\nAnfahrt und Parken:Eine Anfahrt ist sowohl mit dem Fahrrad\, den öffentlichen Verkehrsmitteln (Bushaltestelle: Schattbachbrücke oder Berger Höfe) oder dem Auto möglich. Auf dem Hof sind keine Parkplätze vorhanden\, alternative Parkmöglichkeit besteht rund um die Gaststätte ums Eck („Blauer Engel“) oder am Friedhof an der Schattbachstraße. \n\n\n\nBei Fragen bitte melden:bei Johannes Tangen Mobil: 01577 4598148oder per Mail an Magdalena Kruska: hallo@derhof.eu
URL:https://ernaehrungsrat-bochum.de/event/gartentag-im-gemeinschaftsgarten-hof-bergmann-6/
END:VEVENT
BEGIN:VEVENT
DTSTART;TZID=Europe/Berlin:20260530T110000
DTEND;TZID=Europe/Berlin:20260530T183000
DTSTAMP:20260420T055319
CREATED:20260311T165843Z
LAST-MODIFIED:20260311T165843Z
UID:2850-1780138800-1780165800@ernaehrungsrat-bochum.de
SUMMARY:Gartentag im Gemeinschaftsgarten Hof Bergmann
DESCRIPTION:Wir vom Gemeinschaftsgarten Hof Bergmann laden herzlich dazu ein\, ökologische Gartenpraxis gemeinsam zu erleben – jeden Samstag von 11:00 bis 18:30 Uhr. \n\n\n\nOb erfahrene Gärtner*innen oder neugierige Einsteiger*innen – hier werden Gemüse und Obst angebaut\, gepflegt und geerntet.Dabei entdecken wir die Vielfalt von Pflanzen und Insekten\, fördern aktiv die Biodiversität und erleben\, wie ein ökologisches Miteinander von Flora und Fauna funktioniert. Gemeinschaftliches Tun\, Austausch und Mahlzeiten aus der Ernte machen den Gartentag zu einem lebendigen Erlebnis für alle Teilnehmenden. \n\n\n\nAnmeldung nicht nötig.Die Teilnahme ist kostenfrei – einfach kommen und mitmachen! \n\n\n\nAnfahrt und Parken:Eine Anfahrt ist sowohl mit dem Fahrrad\, den öffentlichen Verkehrsmitteln (Bushaltestelle: Schattbachbrücke oder Berger Höfe) oder dem Auto möglich. Auf dem Hof sind keine Parkplätze vorhanden\, alternative Parkmöglichkeit besteht rund um die Gaststätte ums Eck („Blauer Engel“) oder am Friedhof an der Schattbachstraße. \n\n\n\nBei Fragen bitte melden:bei Johannes Tangen Mobil: 01577 4598148oder per Mail an Magdalena Kruska: hallo@derhof.eu
URL:https://ernaehrungsrat-bochum.de/event/gartentag-im-gemeinschaftsgarten-hof-bergmann-7/
END:VEVENT
END:VCALENDAR